BEGIN:VCALENDAR
VERSION:2.0
PRODID:icalendar-ruby
CALSCALE:GREGORIAN
METHOD:PUBLISH
BEGIN:VEVENT
DTSTAMP:20260421T112256Z
UID:7-311361@goshenstmarks.org
DTSTART:20260820T150000Z
DTEND:20260820T160000Z
CLASS:PUBLIC
CREATED:20260226T071313
DESCRIPTION:
LAST-MODIFIED:20260226T071313
LOCATION:502 N Main St Goshen\, IN 46528
SUMMARY:Sunday Worship
URL;VALUE=URI:https://www.goshenstmarks.org/events/sunday-worship/2026-08-2
 0
END:VEVENT
END:VCALENDAR
