BEGIN:VCALENDAR
VERSION:2.0
PRODID:icalendar-ruby
CALSCALE:GREGORIAN
METHOD:PUBLISH
BEGIN:VEVENT
DTSTAMP:20260420T223016Z
UID:7-311353@goshenstmarks.org
DTSTART:20260625T150000Z
DTEND:20260625T160000Z
CLASS:PUBLIC
CREATED:20260226T071313
DESCRIPTION:
LAST-MODIFIED:20260226T071313
LOCATION:502 N Main St Goshen\, IN 46528
SUMMARY:Sunday Worship
URL;VALUE=URI:https://www.goshenstmarks.org/events/sunday-worship/2026-06-2
 5
END:VEVENT
END:VCALENDAR
